0.33333333
0.0
0.0
-0.33333333
1688798.50000000
694741.50000000
